BEGIN:VCALENDAR
VERSION:2.0
PRODID:-//Produced Water Society - ECPv6.15.20//NONSGML v1.0//EN
CALSCALE:GREGORIAN
METHOD:PUBLISH
X-ORIGINAL-URL:https://producedwatersociety.com
X-WR-CALDESC:Events for Produced Water Society
REFRESH-INTERVAL;VALUE=DURATION:PT1H
X-Robots-Tag:noindex
X-PUBLISHED-TTL:PT1H
BEGIN:VTIMEZONE
TZID:UTC
BEGIN:STANDARD
TZOFFSETFROM:+0000
TZOFFSETTO:+0000
TZNAME:UTC
DTSTART:20250101T000000
END:STANDARD
END:VTIMEZONE
BEGIN:VEVENT
DTSTART;VALUE=DATE:20261005
DTEND;VALUE=DATE:20261007
DTSTAMP:20260422T005801
CREATED:20260310T164857Z
LAST-MODIFIED:20260403T131409Z
UID:10000016-1791158400-1791331199@producedwatersociety.com
SUMMARY:Qatar Edition
DESCRIPTION:A two-day industry event focused on produced water solutions\, sustainability\, and engineering innovation within Qatar’s evolving energy sector.\nRead more
URL:https://producedwatersociety.com/calendar-event/qatar-edition/
LOCATION:Doha\, Qatar
CATEGORIES:Upcoming Events
ATTACH;FMTTYPE=image/jpeg:https://producedwatersociety.com/wp-content/uploads/2026/01/20250211_PWSConferenceDay1_030_web.jpg
END:VEVENT
BEGIN:VEVENT
DTSTART;VALUE=DATE:20261021
DTEND;VALUE=DATE:20261023
DTSTAMP:20260422T005801
CREATED:20260310T165244Z
LAST-MODIFIED:20260403T130130Z
UID:10000017-1792540800-1792713599@producedwatersociety.com
SUMMARY:Argentina Edition
DESCRIPTION:A focused conference exploring produced water management\, infrastructure growth\, and sustainable solutions supporting Argentina’s expanding energy sector.\nRead more
URL:https://producedwatersociety.com/calendar-event/argentina-edition/
LOCATION:Neuquén\, Argentina
CATEGORIES:Upcoming Events
ATTACH;FMTTYPE=image/webp:https://producedwatersociety.com/wp-content/uploads/2026/03/0X4A8622-1-scaled.webp
END:VEVENT
BEGIN:VEVENT
DTSTART;VALUE=DATE:20261214
DTEND;VALUE=DATE:20261218
DTSTAMP:20260422T005801
CREATED:20260317T165327Z
LAST-MODIFIED:20260403T142856Z
UID:10000022-1797206400-1797551999@producedwatersociety.com
SUMMARY:10th Annual Middle East Water Week
DESCRIPTION:A major regional gathering focused on produced and industrial water solutions\, sustainability\, and innovation across the Middle East.\nRead more \n 
URL:https://producedwatersociety.com/calendar-event/10th-annual-middle-east-water-week/
LOCATION:Dammam\, Saudi Arabia
CATEGORIES:Upcoming Events
ATTACH;FMTTYPE=image/webp:https://producedwatersociety.com/wp-content/uploads/2026/03/0X4A8640-1-scaled.webp
END:VEVENT
BEGIN:VEVENT
DTSTART;VALUE=DATE:20270208
DTEND;VALUE=DATE:20270212
DTSTAMP:20260422T005801
CREATED:20260311T123027Z
LAST-MODIFIED:20260316T142907Z
UID:10000020-1802044800-1802390399@producedwatersociety.com
SUMMARY:37th Annual Conference
DESCRIPTION:For nearly four decades\, the Annual Produced Water Society Conference has served as the industry’s central gathering point for advancing produced water management. The 37th Annual Conference will once again bring together experts from around the world to address the evolving challenges shaping water in energy production. Read More
URL:https://producedwatersociety.com/calendar-event/37th-annual-conference/
LOCATION:Sugarland
CATEGORIES:Annual Events,Upcoming Events
ATTACH;FMTTYPE=image/webp:https://producedwatersociety.com/wp-content/uploads/2026/03/download-13-1.webp
END:VEVENT
END:VCALENDAR