BEGIN:VCALENDAR
VERSION:2.0
PRODID:-//Produced Water Society - ECPv6.15.20//NONSGML v1.0//EN
CALSCALE:GREGORIAN
METHOD:PUBLISH
X-WR-CALNAME:Produced Water Society
X-ORIGINAL-URL:https://producedwatersociety.com
X-WR-CALDESC:Events for Produced Water Society
REFRESH-INTERVAL;VALUE=DURATION:PT1H
X-Robots-Tag:noindex
X-PUBLISHED-TTL:PT1H
BEGIN:VTIMEZONE
TZID:UTC
BEGIN:STANDARD
TZOFFSETFROM:+0000
TZOFFSETTO:+0000
TZNAME:UTC
DTSTART:20220101T000000
END:STANDARD
END:VTIMEZONE
BEGIN:VEVENT
DTSTART;VALUE=DATE:20260713
DTEND;VALUE=DATE:20260716
DTSTAMP:20260422T024028
CREATED:20260310T162915Z
LAST-MODIFIED:20260414T162111Z
UID:10000014-1783900800-1784159999@producedwatersociety.com
SUMMARY:4th Annual African Conference
DESCRIPTION:Industry leaders gather in Lagos to discuss produced water management\, emerging technologies\, and sustainable solutions shaping Africa’s energy future.\nRead more.
URL:https://producedwatersociety.com/calendar-event/4th-annual-african-conference/
LOCATION:Lagos\, Nigeria
CATEGORIES:Upcoming Events
ATTACH;FMTTYPE=image/webp:https://producedwatersociety.com/wp-content/uploads/2026/03/0X4A9261-1.webp
END:VEVENT
BEGIN:VEVENT
DTSTART;VALUE=DATE:20260616
DTEND;VALUE=DATE:20260618
DTSTAMP:20260422T024028
CREATED:20260310T163556Z
LAST-MODIFIED:20260403T133442Z
UID:10000015-1781568000-1781740799@producedwatersociety.com
SUMMARY:UK Edition
DESCRIPTION:A focused gathering of North Sea energy professionals exploring produced water solutions\, offshore engineering challenges\, and sustainability in evolving energy systems.\nRead more
URL:https://producedwatersociety.com/calendar-event/uk-edition/
LOCATION:Aberdeen\, United Kingdom
CATEGORIES:Upcoming Events
ATTACH;FMTTYPE=image/webp:https://producedwatersociety.com/wp-content/uploads/2026/03/193A8821-1-scaled.webp
END:VEVENT
BEGIN:VEVENT
DTSTART;VALUE=DATE:20260313
DTEND;VALUE=DATE:20260414
DTSTAMP:20260422T024028
CREATED:20260311T122616Z
LAST-MODIFIED:20260403T134544Z
UID:10000019-1773360000-1776124799@producedwatersociety.com
SUMMARY:Asia Edition
DESCRIPTION:As energy demand grows and infrastructure expands across Asia\, produced water management is becoming a defining conversation. The Asia Edition of the Produced Water Society Conference brings together operators\, regulators\, engineers\, researchers\, and solution providers who are navigating this transition in real time. Read More
URL:https://producedwatersociety.com/calendar-event/asia-edition/
LOCATION:Kuala Lumpur / Ho Chi Minh City
CATEGORIES:Upcoming Events
ATTACH;FMTTYPE=image/webp:https://producedwatersociety.com/wp-content/uploads/2026/03/193A9147-1-scaled.webp
END:VEVENT
BEGIN:VEVENT
DTSTART;VALUE=DATE:20260209
DTEND;VALUE=DATE:20260213
DTSTAMP:20260422T024028
CREATED:20251212T115842Z
LAST-MODIFIED:20260311T120808Z
UID:10000012-1770595200-1770940799@producedwatersociety.com
SUMMARY:36th Annual Produced Water Society Conference
DESCRIPTION:February 9th – 12th 2026 | Houston Marriott Sugar Land.
URL:https://producedwatersociety.com/calendar-event/36th-annual-produced-water-society-conference/
CATEGORIES:Annual Events
ATTACH;FMTTYPE=image/webp:https://producedwatersociety.com/wp-content/uploads/2025/11/20250213_PWSConferenceDay3_356_web.webp
END:VEVENT
BEGIN:VEVENT
DTSTART;VALUE=DATE:20250811
DTEND;VALUE=DATE:20250814
DTSTAMP:20260422T024028
CREATED:20250203T093806Z
LAST-MODIFIED:20260311T120616Z
UID:10000011-1754870400-1755129599@producedwatersociety.com
SUMMARY:10th Annual Permian Basin Conference & Exhibition
DESCRIPTION:
URL:https://producedwatersociety.com/calendar-event/10th-annual-permian-basin-conference-exhibition/
LOCATION:Bush Convention Center\, Midland\, Texas\, United States
CATEGORIES:Past Event
ATTACH;FMTTYPE=image/webp:https://producedwatersociety.com/wp-content/uploads/2025/11/20250212_PWSConferenceDay2_176_web-1.webp
END:VEVENT
BEGIN:VEVENT
DTSTART;VALUE=DATE:20250224
DTEND;VALUE=DATE:20250228
DTSTAMP:20260422T024028
CREATED:20250131T131343Z
LAST-MODIFIED:20260311T120703Z
UID:10000009-1740355200-1740700799@producedwatersociety.com
SUMMARY:3rd Annual International Produced Water Management Conference & Exhibition - Africa
DESCRIPTION:
URL:https://producedwatersociety.com/calendar-event/3rd-annual-international-produced-water-management-conference-exhibition-africa/
LOCATION:Workshop Arena ICC Abhuja\, Nigeria\, Nigeria
CATEGORIES:Past Event
ATTACH;FMTTYPE=image/webp:https://producedwatersociety.com/wp-content/uploads/2025/11/20250213_PWSConferenceDay3_065_web.webp
END:VEVENT
BEGIN:VEVENT
DTSTART;VALUE=DATE:20240917
DTEND;VALUE=DATE:20240919
DTSTAMP:20260422T024028
CREATED:20230323T161148Z
LAST-MODIFIED:20260206T181205Z
UID:10000003-1726531200-1726703999@producedwatersociety.com
SUMMARY:PWS Middle East: Qatar 2024
DESCRIPTION:
URL:https://producedwatersociety.com/calendar-event/produced-water-society-middle-east-symposium/
LOCATION:Doha\, Qatar
CATEGORIES:Past Event
ATTACH;FMTTYPE=image/webp:https://producedwatersociety.com/wp-content/uploads/2025/11/20250211_PWSConferenceDay1_030_web.webp
END:VEVENT
BEGIN:VEVENT
DTSTART;TZID=UTC:20240812T080000
DTEND;TZID=UTC:20240814T170000
DTSTAMP:20260422T024028
CREATED:20240305T052427Z
LAST-MODIFIED:20260206T181220Z
UID:10000007-1723449600-1723654800@producedwatersociety.com
SUMMARY:Produced Water Society Permian Basin Conference 2024
DESCRIPTION:
URL:https://producedwatersociety.com/calendar-event/produced-water-society-permian-basin-conference-2024/
CATEGORIES:Past Event
ATTACH;FMTTYPE=image/webp:https://producedwatersociety.com/wp-content/uploads/2025/11/20250213_PWSConferenceDay3_033_web.webp
END:VEVENT
BEGIN:VEVENT
DTSTART;TZID=UTC:20240206T080000
DTEND;TZID=UTC:20240208T170000
DTSTAMP:20260422T024028
CREATED:20230812T161440Z
LAST-MODIFIED:20260206T181233Z
UID:10000004-1707206400-1707411600@producedwatersociety.com
SUMMARY:Produced Water Society Annual Seminar
DESCRIPTION:The Produced Water Society Annual Seminar is the longest-standing and most highly regarded technical conference serving the produced water management sector. The Houston-based event covers conventional\, unconventional\, onshore and offshore operations
URL:https://producedwatersociety.com/calendar-event/produced-water-society-annual-seminar/
LOCATION:Houston Texas
CATEGORIES:Past Event
ATTACH;FMTTYPE=image/webp:https://producedwatersociety.com/wp-content/uploads/2025/11/events-4.webp
END:VEVENT
BEGIN:VEVENT
DTSTART;TZID=UTC:20231210T080000
DTEND;TZID=UTC:20231214T170000
DTSTAMP:20260422T024028
CREATED:20240229T084744Z
LAST-MODIFIED:20260206T181243Z
UID:10000006-1702195200-1702573200@producedwatersociety.com
SUMMARY:Produced Water Society Middle East Symposium
DESCRIPTION:8th Annual Water Produced Society Middle East Conference & Exhibition\nAl-Khobar\, Kingdom of Saudi Arabia\nhttps://www.meproducedwater.com
URL:https://producedwatersociety.com/calendar-event/produced-water-society-middle-east-symposium-2/
LOCATION:Al-Khobar\, Al-Khobar\, Saudi Arabia
CATEGORIES:Past Event
ATTACH;FMTTYPE=image/webp:https://producedwatersociety.com/wp-content/uploads/2026/01/Annual-Conference-Page-Image.webp
END:VEVENT
BEGIN:VEVENT
DTSTART;TZID=UTC:20230814T080000
DTEND;TZID=UTC:20230816T170000
DTSTAMP:20260422T024028
CREATED:20230323T160927Z
LAST-MODIFIED:20260206T181250Z
UID:10000002-1692000000-1692205200@producedwatersociety.com
SUMMARY:Produced Water Society Permian Basin Summit
DESCRIPTION:The annual PWS Permian Basin event brings together industry leading speakers to address the produced water issues faced by operators\, water midstream companies and water services providers.
URL:https://producedwatersociety.com/calendar-event/produced-water-society-permian-basin-summit/
LOCATION:Bush Convention Center\, Midland\, Texas\, United States
CATEGORIES:Past Event
ATTACH;FMTTYPE=image/webp:https://producedwatersociety.com/wp-content/uploads/2025/11/about-us-5-scaled.webp
END:VEVENT
END:VCALENDAR