BEGIN:VCALENDAR
VERSION:2.0
PRODID:-//Produced Water Society - ECPv6.15.20//NONSGML v1.0//EN
CALSCALE:GREGORIAN
METHOD:PUBLISH
X-ORIGINAL-URL:https://producedwatersociety.com
X-WR-CALDESC:Events for Produced Water Society
REFRESH-INTERVAL;VALUE=DURATION:PT1H
X-Robots-Tag:noindex
X-PUBLISHED-TTL:PT1H
BEGIN:VTIMEZONE
TZID:UTC
BEGIN:STANDARD
TZOFFSETFROM:+0000
TZOFFSETTO:+0000
TZNAME:UTC
DTSTART:20250101T000000
END:STANDARD
END:VTIMEZONE
BEGIN:VEVENT
DTSTART;VALUE=DATE:20261021
DTEND;VALUE=DATE:20261023
DTSTAMP:20260422T023558
CREATED:20260310T165244Z
LAST-MODIFIED:20260403T130130Z
UID:10000017-1792540800-1792713599@producedwatersociety.com
SUMMARY:Argentina Edition
DESCRIPTION:A focused conference exploring produced water management\, infrastructure growth\, and sustainable solutions supporting Argentina’s expanding energy sector.\nRead more
URL:https://producedwatersociety.com/calendar-event/argentina-edition/
LOCATION:Neuquén\, Argentina
CATEGORIES:Upcoming Events
ATTACH;FMTTYPE=image/webp:https://producedwatersociety.com/wp-content/uploads/2026/03/0X4A8622-1-scaled.webp
END:VEVENT
END:VCALENDAR